BEGIN:VCALENDAR
VERSION:2.0
PRODID:-//PENN HOSA - ECPv6.15.20//NONSGML v1.0//EN
CALSCALE:GREGORIAN
METHOD:PUBLISH
X-WR-CALNAME:PENN HOSA
X-ORIGINAL-URL:https://pahosa.org
X-WR-CALDESC:Events for PENN HOSA
REFRESH-INTERVAL;VALUE=DURATION:PT1H
X-Robots-Tag:noindex
X-PUBLISHED-TTL:PT1H
BEGIN:VTIMEZONE
TZID:America/New_York
BEGIN:DAYLIGHT
TZOFFSETFROM:-0500
TZOFFSETTO:-0400
TZNAME:EDT
DTSTART:20240310T070000
END:DAYLIGHT
BEGIN:STANDARD
TZOFFSETFROM:-0400
TZOFFSETTO:-0500
TZNAME:EST
DTSTART:20241103T060000
END:STANDARD
BEGIN:DAYLIGHT
TZOFFSETFROM:-0500
TZOFFSETTO:-0400
TZNAME:EDT
DTSTART:20250309T070000
END:DAYLIGHT
BEGIN:STANDARD
TZOFFSETFROM:-0400
TZOFFSETTO:-0500
TZNAME:EST
DTSTART:20251102T060000
END:STANDARD
BEGIN:DAYLIGHT
TZOFFSETFROM:-0500
TZOFFSETTO:-0400
TZNAME:EDT
DTSTART:20260308T070000
END:DAYLIGHT
BEGIN:STANDARD
TZOFFSETFROM:-0400
TZOFFSETTO:-0500
TZNAME:EST
DTSTART:20261101T060000
END:STANDARD
END:VTIMEZONE
BEGIN:VEVENT
DTSTART;TZID=America/New_York:20250501T080000
DTEND;TZID=America/New_York:20250501T170000
DTSTAMP:20260425T234943
CREATED:20240906T201633Z
LAST-MODIFIED:20240906T201633Z
UID:3181-1746086400-1746118800@pahosa.org
SUMMARY:2025 International Leadership Conference registration deadline
DESCRIPTION:International Leadership Conference registration deadline/ILC forms for anyone not in attendance at SLC \n– All ILC registration fees due to PENN HOSA \n–HATS system updated with Volunteer Hours and Funds raised for recognition at ILC
URL:https://pahosa.org/event/2025-international-leadership-conference-registration-deadline/
ORGANIZER;CN="Alison Sprankle":MAILTO:aspranklehosa@gmail.com
END:VEVENT
BEGIN:VEVENT
DTSTART;TZID=America/New_York:20250513T151500
DTEND;TZID=America/New_York:20250513T161500
DTSTAMP:20260425T234943
CREATED:20240713T224629Z
LAST-MODIFIED:20240713T224629Z
UID:3033-1747149300-1747152900@pahosa.org
SUMMARY:NEW HOSA Advisor Meeting
DESCRIPTION:NEW HOSA Tuesday Schedule\n\n\n2nd Tuesday of each month 3:15-4:15 \nZOOM link will be emailed morning of event\n\n\n\n\n\n\nMeetings are recorded and available to watch at your convenience with Link to YouTube Channel
URL:https://pahosa.org/event/new-hosa-advisor-meeting-8/
CATEGORIES:Events
ORGANIZER;CN="Alison Sprankle":MAILTO:aspranklehosa@gmail.com
END:VEVENT
BEGIN:VEVENT
DTSTART;TZID=America/New_York:20250514T151500
DTEND;TZID=America/New_York:20250514T161500
DTSTAMP:20260425T234943
CREATED:20240713T223704Z
LAST-MODIFIED:20240713T223704Z
UID:3014-1747235700-1747239300@pahosa.org
SUMMARY:PENN HOSA Townhall Meeting
DESCRIPTION:PENN HOSA Townhall Meetings\n\n\n2nd Wednesday of each month 3:15-4:15 \nZOOM Link will be emailed morning of event\n\n\n\nMeetings are recorded and available to watch at your convenience with Link to YouTube Channel
URL:https://pahosa.org/event/penn-hosa-townhall-meeting-8/
CATEGORIES:Events
ORGANIZER;CN="Alison Sprankle":MAILTO:aspranklehosa@gmail.com
END:VEVENT
END:VCALENDAR