BEGIN:VCALENDAR
VERSION:2.0
PRODID:-//PENN HOSA - ECPv6.15.20//NONSGML v1.0//EN
CALSCALE:GREGORIAN
METHOD:PUBLISH
X-ORIGINAL-URL:https://pahosa.org
X-WR-CALDESC:Events for PENN HOSA
REFRESH-INTERVAL;VALUE=DURATION:PT1H
X-Robots-Tag:noindex
X-PUBLISHED-TTL:PT1H
BEGIN:VTIMEZONE
TZID:America/New_York
BEGIN:DAYLIGHT
TZOFFSETFROM:-0500
TZOFFSETTO:-0400
TZNAME:EDT
DTSTART:20240310T070000
END:DAYLIGHT
BEGIN:STANDARD
TZOFFSETFROM:-0400
TZOFFSETTO:-0500
TZNAME:EST
DTSTART:20241103T060000
END:STANDARD
BEGIN:DAYLIGHT
TZOFFSETFROM:-0500
TZOFFSETTO:-0400
TZNAME:EDT
DTSTART:20250309T070000
END:DAYLIGHT
BEGIN:STANDARD
TZOFFSETFROM:-0400
TZOFFSETTO:-0500
TZNAME:EST
DTSTART:20251102T060000
END:STANDARD
BEGIN:DAYLIGHT
TZOFFSETFROM:-0500
TZOFFSETTO:-0400
TZNAME:EDT
DTSTART:20260308T070000
END:DAYLIGHT
BEGIN:STANDARD
TZOFFSETFROM:-0400
TZOFFSETTO:-0500
TZNAME:EST
DTSTART:20261101T060000
END:STANDARD
END:VTIMEZONE
BEGIN:VEVENT
DTSTART;TZID=America/New_York:20250610T151500
DTEND;TZID=America/New_York:20250610T161500
DTSTAMP:20260425T223149
CREATED:20240713T223843Z
LAST-MODIFIED:20240713T223843Z
UID:3016-1749568500-1749572100@pahosa.org
SUMMARY:New HOSA and TownHall Meeting
DESCRIPTION:PENN HOSA Townhall and New Advisor Meeting\n\n\nLast Meeting of 2024-2025 \nZOOM Link will be emailed morning of event\n\n\n\nMeetings are recorded and available to watch at your convenience with Link to YouTube Channel
URL:https://pahosa.org/event/new-hosa-and-townhall-meeting/
CATEGORIES:Events
ORGANIZER;CN="Alison Sprankle":MAILTO:aspranklehosa@gmail.com
END:VEVENT
BEGIN:VEVENT
DTSTART;TZID=America/New_York:20250618T080000
DTEND;TZID=America/New_York:20250621T170000
DTSTAMP:20260425T223149
CREATED:20240906T201715Z
LAST-MODIFIED:20240906T201715Z
UID:3183-1750233600-1750525200@pahosa.org
SUMMARY:2025 HOSA International Leadership Conference (ILC)
DESCRIPTION:HOSA International Leadership Conference (ILC)\, Gaylord Opryland Convention Center Nashville\, TN \n(allow a day of travel before and after the ILC dates)
URL:https://pahosa.org/event/2025-hosa-international-leadership-conference-ilc/
ORGANIZER;CN="Alison Sprankle":MAILTO:aspranklehosa@gmail.com
END:VEVENT
END:VCALENDAR