BEGIN:VCALENDAR
VERSION:2.0
PRODID:-//PENN HOSA - ECPv6.15.20//NONSGML v1.0//EN
CALSCALE:GREGORIAN
METHOD:PUBLISH
X-ORIGINAL-URL:https://pahosa.org
X-WR-CALDESC:Events for PENN HOSA
REFRESH-INTERVAL;VALUE=DURATION:PT1H
X-Robots-Tag:noindex
X-PUBLISHED-TTL:PT1H
BEGIN:VTIMEZONE
TZID:America/New_York
BEGIN:DAYLIGHT
TZOFFSETFROM:-0500
TZOFFSETTO:-0400
TZNAME:EDT
DTSTART:20250309T070000
END:DAYLIGHT
BEGIN:STANDARD
TZOFFSETFROM:-0400
TZOFFSETTO:-0500
TZNAME:EST
DTSTART:20251102T060000
END:STANDARD
BEGIN:DAYLIGHT
TZOFFSETFROM:-0500
TZOFFSETTO:-0400
TZNAME:EDT
DTSTART:20260308T070000
END:DAYLIGHT
BEGIN:STANDARD
TZOFFSETFROM:-0400
TZOFFSETTO:-0500
TZNAME:EST
DTSTART:20261101T060000
END:STANDARD
BEGIN:DAYLIGHT
TZOFFSETFROM:-0500
TZOFFSETTO:-0400
TZNAME:EDT
DTSTART:20270314T070000
END:DAYLIGHT
BEGIN:STANDARD
TZOFFSETFROM:-0400
TZOFFSETTO:-0500
TZNAME:EST
DTSTART:20271107T060000
END:STANDARD
END:VTIMEZONE
BEGIN:VEVENT
DTSTART;TZID=America/New_York:20260105T080000
DTEND;TZID=America/New_York:20260130T180000
DTSTAMP:20260425T133451
CREATED:20250909T160044Z
LAST-MODIFIED:20250909T160044Z
UID:3384-1767600000-1769796000@pahosa.org
SUMMARY:SLC Registration
DESCRIPTION:SLC Registration OPEN until 1/30/26 at 6:00PM \nHealthcare Issues Exam Registration closes 1/30/26 at 6:00PM \nState Officer Application available online at www.pahosa.org and due by 1/30/26 at 6:00PM \nAll membership affiliation fees must be paid prior to conference registration!
URL:https://pahosa.org/event/slc-registration/
END:VEVENT
BEGIN:VEVENT
DTSTART;TZID=America/New_York:20260113T151500
DTEND;TZID=America/New_York:20260113T161500
DTSTAMP:20260425T133451
CREATED:20250909T161426Z
LAST-MODIFIED:20250909T161426Z
UID:3420-1768317300-1768320900@pahosa.org
SUMMARY:NEW HOSA Tuesday Schedule
DESCRIPTION:2nd Tuesday of each month 3:15-4:15\nMeetings are recorded and available to watch at your convenience with Link to YouTube Channel
URL:https://pahosa.org/event/new-hosa-tuesday-schedule-5/
END:VEVENT
BEGIN:VEVENT
DTSTART;TZID=America/New_York:20260114T151500
DTEND;TZID=America/New_York:20260114T161500
DTSTAMP:20260425T133451
CREATED:20250909T162206Z
LAST-MODIFIED:20250909T162206Z
UID:3438-1768403700-1768407300@pahosa.org
SUMMARY:PENN HOSA Town Meetings
DESCRIPTION:2nd Wednesday of each month 3:15-4:15\nMeetings are recorded and available to watch at your convenience with Link to YouTube Channel
URL:https://pahosa.org/event/penn-hosa-town-meetings-5/
END:VEVENT
END:VCALENDAR