BEGIN:VCALENDAR
VERSION:2.0
PRODID:-//PENN HOSA - ECPv6.15.20//NONSGML v1.0//EN
CALSCALE:GREGORIAN
METHOD:PUBLISH
X-ORIGINAL-URL:https://pahosa.org
X-WR-CALDESC:Events for PENN HOSA
REFRESH-INTERVAL;VALUE=DURATION:PT1H
X-Robots-Tag:noindex
X-PUBLISHED-TTL:PT1H
BEGIN:VTIMEZONE
TZID:America/New_York
BEGIN:DAYLIGHT
TZOFFSETFROM:-0500
TZOFFSETTO:-0400
TZNAME:EDT
DTSTART:20250309T070000
END:DAYLIGHT
BEGIN:STANDARD
TZOFFSETFROM:-0400
TZOFFSETTO:-0500
TZNAME:EST
DTSTART:20251102T060000
END:STANDARD
BEGIN:DAYLIGHT
TZOFFSETFROM:-0500
TZOFFSETTO:-0400
TZNAME:EDT
DTSTART:20260308T070000
END:DAYLIGHT
BEGIN:STANDARD
TZOFFSETFROM:-0400
TZOFFSETTO:-0500
TZNAME:EST
DTSTART:20261101T060000
END:STANDARD
BEGIN:DAYLIGHT
TZOFFSETFROM:-0500
TZOFFSETTO:-0400
TZNAME:EDT
DTSTART:20270314T070000
END:DAYLIGHT
BEGIN:STANDARD
TZOFFSETFROM:-0400
TZOFFSETTO:-0500
TZNAME:EST
DTSTART:20271107T060000
END:STANDARD
END:VTIMEZONE
BEGIN:VEVENT
DTSTART;VALUE=DATE:20260204
DTEND;VALUE=DATE:20260206
DTSTAMP:20260425T121420
CREATED:20250909T160141Z
LAST-MODIFIED:20250909T160141Z
UID:3386-1770206400-1770292799@pahosa.org
SUMMARY:SLC DEADLINES
DESCRIPTION:• Hotel reservation forms and payment to hotel (check or credit card)\n• Conference Registration Fees paid to PENN HOSA\n• ALL SLC forms EMAILED to Alison Sprankle AKSprankle@pahosa.org\n• Competitive Event Materials uploaded to the HOSA DIGITAL UPLOAD SYSTEM-Check Competitive Event Guidelines\n• Chapter donations received by the Penn HOSA Foundation for recognition at SLC\n• PENN HOSA Outstanding HOSA Advisor Form submission – Secondary & Postsecondary/Collegiate\n• HATS Updated with service hours and funds raised for Recognition at SLC\n• PENN HOSA Online Store closes at 11:59 EST\n• All chapter photos to PENN HOSA Historian for inclusion in the SLC slideshow. Send photos to\nKanakvi Pulekar KNPulekar@pahosa.org Subject line to read: Chapter Name – SLC Photo
URL:https://pahosa.org/event/slc-deadlines/
END:VEVENT
BEGIN:VEVENT
DTSTART;TZID=America/New_York:20260210T151500
DTEND;TZID=America/New_York:20260210T161500
DTSTAMP:20260425T121420
CREATED:20250909T161510Z
LAST-MODIFIED:20250909T161510Z
UID:3422-1770736500-1770740100@pahosa.org
SUMMARY:NEW HOSA Tuesday Schedule
DESCRIPTION:2nd Tuesday of each month 3:15-4:15\nMeetings are recorded and available to watch at your convenience with Link to YouTube Channel
URL:https://pahosa.org/event/new-hosa-tuesday-schedule-6/
END:VEVENT
BEGIN:VEVENT
DTSTART;TZID=America/New_York:20260211T151500
DTEND;TZID=America/New_York:20260211T161500
DTSTAMP:20260425T121420
CREATED:20250909T163007Z
LAST-MODIFIED:20250909T163007Z
UID:3440-1770822900-1770826500@pahosa.org
SUMMARY:PENN HOSA Town Meetings
DESCRIPTION:2nd Wednesday of each month 3:15-4:15\nMeetings are recorded and available to watch at your convenience with Link to YouTube Channel
URL:https://pahosa.org/event/penn-hosa-town-meetings-6/
END:VEVENT
BEGIN:VEVENT
DTSTART;TZID=America/New_York:20260220T080000
DTEND;TZID=America/New_York:20260227T170000
DTSTAMP:20260425T121420
CREATED:20250909T160229Z
LAST-MODIFIED:20250909T160229Z
UID:3388-1771574400-1772211600@pahosa.org
SUMMARY:REQUIRED Pre-Conference Testing Week- State Officer Test & Healthcare Issues Exam
DESCRIPTION:REQUIRED Pre-Conference Testing Week- State Officer Test & Healthcare Issues Exam
URL:https://pahosa.org/event/required-pre-conference-testing-week-state-officer-test-healthcare-issues-exam/
END:VEVENT
END:VCALENDAR