BEGIN:VCALENDAR
VERSION:2.0
PRODID:-//PENN HOSA - ECPv6.15.20//NONSGML v1.0//EN
CALSCALE:GREGORIAN
METHOD:PUBLISH
X-WR-CALNAME:PENN HOSA
X-ORIGINAL-URL:https://pahosa.org
X-WR-CALDESC:Events for PENN HOSA
REFRESH-INTERVAL;VALUE=DURATION:PT1H
X-Robots-Tag:noindex
X-PUBLISHED-TTL:PT1H
BEGIN:VTIMEZONE
TZID:America/New_York
BEGIN:DAYLIGHT
TZOFFSETFROM:-0500
TZOFFSETTO:-0400
TZNAME:EDT
DTSTART:20250309T070000
END:DAYLIGHT
BEGIN:STANDARD
TZOFFSETFROM:-0400
TZOFFSETTO:-0500
TZNAME:EST
DTSTART:20251102T060000
END:STANDARD
BEGIN:DAYLIGHT
TZOFFSETFROM:-0500
TZOFFSETTO:-0400
TZNAME:EDT
DTSTART:20260308T070000
END:DAYLIGHT
BEGIN:STANDARD
TZOFFSETFROM:-0400
TZOFFSETTO:-0500
TZNAME:EST
DTSTART:20261101T060000
END:STANDARD
BEGIN:DAYLIGHT
TZOFFSETFROM:-0500
TZOFFSETTO:-0400
TZNAME:EDT
DTSTART:20270314T070000
END:DAYLIGHT
BEGIN:STANDARD
TZOFFSETFROM:-0400
TZOFFSETTO:-0500
TZNAME:EST
DTSTART:20271107T060000
END:STANDARD
END:VTIMEZONE
BEGIN:VEVENT
DTSTART;TZID=America/New_York:20260609T151500
DTEND;TZID=America/New_York:20260609T161500
DTSTAMP:20260425T114713
CREATED:20250909T161933Z
LAST-MODIFIED:20250909T161933Z
UID:3428-1781018100-1781021700@pahosa.org
SUMMARY:NEW HOSA Tuesday Schedule & PENN HOSA Town Meetings
DESCRIPTION:Meetings are recorded and available to watch at your convenience with Link to YouTube Channel
URL:https://pahosa.org/event/new-hosa-tuesday-schedule-penn-hosa-town-meetings/
END:VEVENT
BEGIN:VEVENT
DTSTART;VALUE=DATE:20260617
DTEND;VALUE=DATE:20260623
DTSTAMP:20260425T114713
CREATED:20250909T160352Z
LAST-MODIFIED:20250909T160352Z
UID:3392-1781697600-1782129599@pahosa.org
SUMMARY:HOSA International Leadership Conference (ILC)
DESCRIPTION:HOSA International Leadership Conference (ILC)\, Indianapolis Convention Center\, Indianapolis\, IN \n(allow a day of travel before and after the ILC dates)
URL:https://pahosa.org/event/hosa-international-leadership-conference-ilc-2/
END:VEVENT
END:VCALENDAR